BEGIN:VCALENDAR
VERSION:2.0
PRODID:-//Department of English - ECPv5.7.0//NONSGML v1.0//EN
CALSCALE:GREGORIAN
METHOD:PUBLISH
X-WR-CALNAME:Department of English
X-ORIGINAL-URL:https://english.ufl.edu
X-WR-CALDESC:Events for Department of English
BEGIN:VTIMEZONE
TZID:America/New_York
BEGIN:DAYLIGHT
TZOFFSETFROM:-0500
TZOFFSETTO:-0400
TZNAME:EDT
DTSTART:20210314T070000
END:DAYLIGHT
BEGIN:STANDARD
TZOFFSETFROM:-0400
TZOFFSETTO:-0500
TZNAME:EST
DTSTART:20211107T060000
END:STANDARD
END:VTIMEZONE
BEGIN:VEVENT
DTSTART;TZID=America/New_York:20210402T180000
DTEND;TZID=America/New_York:20210402T193000
DTSTAMP:20210706T161439
CREATED:20210211T170743Z
LAST-MODIFIED:20210323T162332Z
UID:9348-1617386400-1617391800@english.ufl.edu
SUMMARY:Meeting at the Crossroads: Community\, Safe Spaces\, and Professional Critique in a Pandemic
DESCRIPTION:Meeting at the Crossroads: Community\, Safe Spaces\, and Professional Critique in a Pandemic\nDate: April 2nd\, 6:00 pm. Via Zoom; This event is open to the public. \n\nOur speaker event intends to bring to the forefront a current and applicable conversation in reference to the COVID-19 pandemic and the recent change of political power here in the U.S. As we witnessed\, the pandemic and societal climate had a great impact on academia\, health\, and legal affairs. Thus\, the event will have a panel with professional representatives from the humanities\, law\, and medicine to discuss the following questions: How has the pandemic impacted your field? What does this transitory period in reference to this change of power in society (Trump to Biden) look like for you and how has that affected your line of work? What’s working and what’s not? What needs to change? What do you foresee or hope for in the near future? \n\n\nWe hope that this event draws in an audience with an interest in these fields and creates a sense of community\, not just intra-departmentally but also inter within UF’s campus. This event is also meant to reflect diversity and support for the Black student population on our campus and we hope this panel and discussion is a welcoming space for that. \n\n\nOur confirmed speakers are Dr.Bernard Ashby\, a leading cardiologist in the state of Florida that has been a reoccurring guest and Medical expert on MSNBC with Joy Reid discussing the pandemic and its effects on communities of color.  Dr. Chesya Burke\, an Assistant Professor and notable author who has published over a hundred short stories\, articles\, and essays in multiple magazines\, journals\, and anthologies. Most notable is her work “Let’s Play White.” Attorney Camara Williams\, who is an activist and host of the podcast Uncultured Bias which discusses politics\, and laws affecting Black and Brown Communities especially during and post-Trump administration. \nLink for Event Registration: https://forms.gle/SNY4tf4kez8gDaTu5
URL:https://english.ufl.edu/event/ego-speaker-series/
END:VEVENT
END:VCALENDAR