BEGIN:VCALENDAR
VERSION:2.0
PRODID:-//Department of English - ECPv5.7.0//NONSGML v1.0//EN
CALSCALE:GREGORIAN
METHOD:PUBLISH
X-WR-CALNAME:Department of English
X-ORIGINAL-URL:https://english.ufl.edu
X-WR-CALDESC:Events for Department of English
BEGIN:VTIMEZONE
TZID:America/New_York
BEGIN:DAYLIGHT
TZOFFSETFROM:-0500
TZOFFSETTO:-0400
TZNAME:EDT
DTSTART:20200308T070000
END:DAYLIGHT
BEGIN:STANDARD
TZOFFSETFROM:-0400
TZOFFSETTO:-0500
TZNAME:EST
DTSTART:20201101T060000
END:STANDARD
END:VTIMEZONE
BEGIN:VEVENT
DTSTART;VALUE=DATE:20200327
DTEND;VALUE=DATE:20200330
DTSTAMP:20210709T201237
CREATED:20191028T133944Z
LAST-MODIFIED:20191028T133944Z
UID:8179-1585267200-1585526399@english.ufl.edu
SUMMARY:Comics in Community: GCO 2020 Conference
DESCRIPTION:
URL:https://english.ufl.edu/event/comics-in-community-gco-2020-conference/
END:VEVENT
END:VCALENDAR